BEGIN:VCALENDAR
VERSION:2.0
PRODID:-//Beaudry Poetry - ECPv6.15.20//NONSGML v1.0//EN
CALSCALE:GREGORIAN
METHOD:PUBLISH
X-ORIGINAL-URL:https://beaudrypoetry.com
X-WR-CALDESC:Events for Beaudry Poetry
REFRESH-INTERVAL;VALUE=DURATION:PT1H
X-Robots-Tag:noindex
X-PUBLISHED-TTL:PT1H
BEGIN:VTIMEZONE
TZID:America/New_York
BEGIN:DAYLIGHT
TZOFFSETFROM:-0500
TZOFFSETTO:-0400
TZNAME:EDT
DTSTART:20250309T070000
END:DAYLIGHT
BEGIN:STANDARD
TZOFFSETFROM:-0400
TZOFFSETTO:-0500
TZNAME:EST
DTSTART:20251102T060000
END:STANDARD
BEGIN:DAYLIGHT
TZOFFSETFROM:-0500
TZOFFSETTO:-0400
TZNAME:EDT
DTSTART:20260308T070000
END:DAYLIGHT
BEGIN:STANDARD
TZOFFSETFROM:-0400
TZOFFSETTO:-0500
TZNAME:EST
DTSTART:20261101T060000
END:STANDARD
BEGIN:DAYLIGHT
TZOFFSETFROM:-0500
TZOFFSETTO:-0400
TZNAME:EDT
DTSTART:20270314T070000
END:DAYLIGHT
BEGIN:STANDARD
TZOFFSETFROM:-0400
TZOFFSETTO:-0500
TZNAME:EST
DTSTART:20271107T060000
END:STANDARD
END:VTIMEZONE
BEGIN:VEVENT
DTSTART;TZID=America/New_York:20260301T000000
DTEND;TZID=America/New_York:20260307T235959
DTSTAMP:20260423T164549
CREATED:20260220T033550Z
LAST-MODIFIED:20260220T033550Z
UID:383-1772323200-1772927999@beaudrypoetry.com
SUMMARY:Smashwords Read An Ebook Week Sale
DESCRIPTION:My debut poetry collection Juniper is part of the Smashwords Read An Ebook Week Sale! The sale runs from March 1 to March 7. The eBook version of my book will be 75% off for the duration of the sale. Be sure to check out the other books on sale while you’re there! \n  \nhttps://www.smashwords.com/books/view/1843507
URL:https://beaudrypoetry.com/event/smashwords_read_an_ebook_week_sale/
LOCATION:Smashwords
ATTACH;FMTTYPE=image/png:https://beaudrypoetry.com/wp-content/uploads/2026/02/Smashwords-Read-An-Ebook-Week-Sale-Facebook.png
END:VEVENT
BEGIN:VEVENT
DTSTART;TZID=America/New_York:20260325T170000
DTEND;TZID=America/New_York:20260325T190000
DTSTAMP:20260423T164549
CREATED:20260303T234228Z
LAST-MODIFIED:20260303T234228Z
UID:387-1774458000-1774465200@beaudrypoetry.com
SUMMARY:Poetorium Too Poetry Reading & Open Mic
DESCRIPTION:I’m excited to have the opportunity to read at “The Poetorium Too!” I’ve included the description from the event’s page on Facebook below. \n“Please join us for a very special double feature edition of our monthly open mic and featured poetry reading series ‘The Poetorium Too’ at TidePool BookShop at 372 Chandler Street in Worcester\, MA on March 25th from 5 pm to 7 pm hosted by Paul Szlosek & (hopefully) Ron Whittle. It will be a full two hours of poetry and spoken word starting with a brief interview on stage with our two featured poets Yvonne Beaudry (author of Juniper) and Eve Rifkah (author of Lost in Sight) followed by poetry readings by our two features\, a short intermission\, and then an open mic (with 5-minute slots for each reader if time permits). For more information\, please get in touch with us at poetorium@mail.com.” \nI’m looking forward to seeing everyone there!
URL:https://beaudrypoetry.com/event/poetorium-too-poetry-reading-open-mic/
LOCATION:TidePool BookShop\, 372 Chandler Street\, Worcester\, MA\, 01602\, United States
ATTACH;FMTTYPE=image/jpeg:https://beaudrypoetry.com/wp-content/uploads/2026/03/Poetorium-Too-Event-Picture-Cropped-e1772581259336.jpeg
ORGANIZER;CN="Paul Szlosek":MAILTO:poetorium@mail.com
END:VEVENT
END:VCALENDAR