BEGIN:VCALENDAR
VERSION:2.0
PRODID:-//Beaudry Poetry - ECPv6.15.20//NONSGML v1.0//EN
CALSCALE:GREGORIAN
METHOD:PUBLISH
X-ORIGINAL-URL:https://beaudrypoetry.com
X-WR-CALDESC:Events for Beaudry Poetry
REFRESH-INTERVAL;VALUE=DURATION:PT1H
X-Robots-Tag:noindex
X-PUBLISHED-TTL:PT1H
BEGIN:VTIMEZONE
TZID:America/New_York
BEGIN:DAYLIGHT
TZOFFSETFROM:-0500
TZOFFSETTO:-0400
TZNAME:EDT
DTSTART:20240310T070000
END:DAYLIGHT
BEGIN:STANDARD
TZOFFSETFROM:-0400
TZOFFSETTO:-0500
TZNAME:EST
DTSTART:20241103T060000
END:STANDARD
BEGIN:DAYLIGHT
TZOFFSETFROM:-0500
TZOFFSETTO:-0400
TZNAME:EDT
DTSTART:20250309T070000
END:DAYLIGHT
BEGIN:STANDARD
TZOFFSETFROM:-0400
TZOFFSETTO:-0500
TZNAME:EST
DTSTART:20251102T060000
END:STANDARD
BEGIN:DAYLIGHT
TZOFFSETFROM:-0500
TZOFFSETTO:-0400
TZNAME:EDT
DTSTART:20260308T070000
END:DAYLIGHT
BEGIN:STANDARD
TZOFFSETFROM:-0400
TZOFFSETTO:-0500
TZNAME:EST
DTSTART:20261101T060000
END:STANDARD
BEGIN:DAYLIGHT
TZOFFSETFROM:-0500
TZOFFSETTO:-0400
TZNAME:EDT
DTSTART:20270314T070000
END:DAYLIGHT
BEGIN:STANDARD
TZOFFSETFROM:-0400
TZOFFSETTO:-0500
TZNAME:EST
DTSTART:20271107T060000
END:STANDARD
END:VTIMEZONE
BEGIN:VEVENT
DTSTART;TZID=America/New_York:20251208T000000
DTEND;TZID=America/New_York:20260101T235959
DTSTAMP:20260423T184005
CREATED:20251211T020416Z
LAST-MODIFIED:20251211T020416Z
UID:361-1765152000-1767311999@beaudrypoetry.com
SUMMARY:Smashwords 2025 End of Year Sale
DESCRIPTION:My debut poetry collection Juniper is part of the Smashwords 2025 End of Year sale! The sale runs from December 8 to January 1. The eBook version of my book will be 50% off for the duration of the sale. Be sure to check out the other books on sale while you’re there! \n  \nhttps://www.smashwords.com/books/view/1843507
URL:https://beaudrypoetry.com/event/smashwords-2025-end-of-year-sale/
LOCATION:Smashwords
ATTACH;FMTTYPE=image/jpeg:https://beaudrypoetry.com/wp-content/uploads/2025/12/Smashwords-2025-End-of-Year-Sale-Image.jpg
END:VEVENT
END:VCALENDAR