BEGIN:VCALENDAR
VERSION:2.0
PRODID:-//Beaudry Poetry - ECPv6.15.20//NONSGML v1.0//EN
CALSCALE:GREGORIAN
METHOD:PUBLISH
X-WR-CALNAME:Beaudry Poetry
X-ORIGINAL-URL:https://beaudrypoetry.com
X-WR-CALDESC:Events for Beaudry Poetry
REFRESH-INTERVAL;VALUE=DURATION:PT1H
X-Robots-Tag:noindex
X-PUBLISHED-TTL:PT1H
BEGIN:VTIMEZONE
TZID:America/New_York
BEGIN:DAYLIGHT
TZOFFSETFROM:-0500
TZOFFSETTO:-0400
TZNAME:EDT
DTSTART:20240310T070000
END:DAYLIGHT
BEGIN:STANDARD
TZOFFSETFROM:-0400
TZOFFSETTO:-0500
TZNAME:EST
DTSTART:20241103T060000
END:STANDARD
BEGIN:DAYLIGHT
TZOFFSETFROM:-0500
TZOFFSETTO:-0400
TZNAME:EDT
DTSTART:20250309T070000
END:DAYLIGHT
BEGIN:STANDARD
TZOFFSETFROM:-0400
TZOFFSETTO:-0500
TZNAME:EST
DTSTART:20251102T060000
END:STANDARD
BEGIN:DAYLIGHT
TZOFFSETFROM:-0500
TZOFFSETTO:-0400
TZNAME:EDT
DTSTART:20260308T070000
END:DAYLIGHT
BEGIN:STANDARD
TZOFFSETFROM:-0400
TZOFFSETTO:-0500
TZNAME:EST
DTSTART:20261101T060000
END:STANDARD
END:VTIMEZONE
BEGIN:VEVENT
DTSTART;TZID=America/New_York:20251201T000000
DTEND;TZID=America/New_York:20251231T235959
DTSTAMP:20260423T201901
CREATED:20251202T221628Z
LAST-MODIFIED:20251202T221628Z
UID:350-1764547200-1767225599@beaudrypoetry.com
SUMMARY:Kobo BOGO Sale: Indie Best of the Year
DESCRIPTION:My debut poetry collection Juniper is part of a BOGO sale on Kobo! It’s the perfect time to snag an eBook copy of my book. The sale runs for the entire month of December in the United States\, Canada\, Australia\, New Zealand\, and the United Kingdom.
URL:https://beaudrypoetry.com/event/kobo-bogo-sale-indie-best-of-the-year/
LOCATION:Rakuten kobo
ATTACH;FMTTYPE=image/jpeg:https://beaudrypoetry.com/wp-content/uploads/2025/12/Juniper-BOGO.jpg
END:VEVENT
END:VCALENDAR